BEGIN:VCALENDAR
VERSION:2.0
PRODID:-//Mercedes-Benz W201 16V Club e.V. | Offizieller Classics Club - ECPv6.15.20//NONSGML v1.0//EN
CALSCALE:GREGORIAN
METHOD:PUBLISH
X-WR-CALNAME:Mercedes-Benz W201 16V Club e.V. | Offizieller Classics Club
X-ORIGINAL-URL:https://w201-16v-club.de
X-WR-CALDESC:Veranstaltungen für Mercedes-Benz W201 16V Club e.V. | Offizieller Classics Club
REFRESH-INTERVAL;VALUE=DURATION:PT1H
X-Robots-Tag:noindex
X-PUBLISHED-TTL:PT1H
BEGIN:VTIMEZONE
TZID:Europe/Berlin
BEGIN:DAYLIGHT
TZOFFSETFROM:+0100
TZOFFSETTO:+0200
TZNAME:CEST
DTSTART:20250330T010000
END:DAYLIGHT
BEGIN:STANDARD
TZOFFSETFROM:+0200
TZOFFSETTO:+0100
TZNAME:CET
DTSTART:20251026T010000
END:STANDARD
BEGIN:DAYLIGHT
TZOFFSETFROM:+0100
TZOFFSETTO:+0200
TZNAME:CEST
DTSTART:20260329T010000
END:DAYLIGHT
BEGIN:STANDARD
TZOFFSETFROM:+0200
TZOFFSETTO:+0100
TZNAME:CET
DTSTART:20261025T010000
END:STANDARD
BEGIN:DAYLIGHT
TZOFFSETFROM:+0100
TZOFFSETTO:+0200
TZNAME:CEST
DTSTART:20270328T010000
END:DAYLIGHT
BEGIN:STANDARD
TZOFFSETFROM:+0200
TZOFFSETTO:+0100
TZNAME:CET
DTSTART:20271031T010000
END:STANDARD
END:VTIMEZONE
BEGIN:VEVENT
DTSTART;TZID=Europe/Berlin:20260424T190000
DTEND;TZID=Europe/Berlin:20260424T233000
DTSTAMP:20260421T125520
CREATED:20250106T222717Z
LAST-MODIFIED:20260121T182600Z
UID:1600-1777057200-1777073400@w201-16v-club.de
SUMMARY:Stammtisch Nord
DESCRIPTION:teilen teilen E-Mail 
URL:https://w201-16v-club.de/events/stammtisch-nord-16
LOCATION:Braaker Krug\, Am Spötzen 1\, Braak\, 22145
CATEGORIES:Stammtisch Nord
END:VEVENT
BEGIN:VEVENT
DTSTART;TZID=Europe/Berlin:20260508T190000
DTEND;TZID=Europe/Berlin:20260508T233000
DTSTAMP:20260421T125520
CREATED:20250106T222157Z
LAST-MODIFIED:20260405T194557Z
UID:1584-1778266800-1778283000@w201-16v-club.de
SUMMARY:Stammtisch West: Sonderveranstaltung Schatzkammer Gerd Dicks
DESCRIPTION:Liebe 16V- Freunde\, \nAm 08.05.2026 veranstaltet der Stammtisch West einen Besuch in der Schatzkammer von Gerd Dicks. \nFür eine Anmeldung und weitere Informationen kann unser Stammtischleiter West Siegbert Mäule-Helten bis einschließlich 30.04.2026 per E-Mail kontaktiert werden. \n  \nteilen teilen E-Mail 
URL:https://w201-16v-club.de/events/stammtisch-west-16
LOCATION:Restaurant Im Rittergut Birkhof\, Rittergut Birkhof 1\, Korschenbroich\, 41352
CATEGORIES:Sonderveranstaltungen,Stammtisch West
END:VEVENT
BEGIN:VEVENT
DTSTART;TZID=Europe/Berlin:20260515T180000
DTEND;TZID=Europe/Berlin:20260515T233000
DTSTAMP:20260421T125520
CREATED:20250106T222818Z
LAST-MODIFIED:20260121T182515Z
UID:1618-1778868000-1778887800@w201-16v-club.de
SUMMARY:Stammtisch Süd
DESCRIPTION:teilen teilen E-Mail 
URL:https://w201-16v-club.de/events/stammtisch-sued-17
LOCATION:Al Campo da Gio\, Am Kräherwald 190a\, Stuttgart\, BW\, 70193\, Deutschland
CATEGORIES:Stammtisch Süd
END:VEVENT
BEGIN:VEVENT
DTSTART;TZID=Europe/Berlin:20260522T190000
DTEND;TZID=Europe/Berlin:20260522T233000
DTSTAMP:20260421T125520
CREATED:20250106T222718Z
LAST-MODIFIED:20260121T182454Z
UID:1601-1779476400-1779492600@w201-16v-club.de
SUMMARY:Stammtisch Nord
DESCRIPTION:teilen teilen E-Mail 
URL:https://w201-16v-club.de/events/stammtisch-nord-17
LOCATION:Braaker Krug\, Am Spötzen 1\, Braak\, 22145
CATEGORIES:Stammtisch Nord
END:VEVENT
BEGIN:VEVENT
DTSTART;TZID=Europe/Berlin:20260605T193000
DTEND;TZID=Europe/Berlin:20260605T233000
DTSTAMP:20260421T125520
CREATED:20250106T222159Z
LAST-MODIFIED:20260121T182439Z
UID:1585-1780687800-1780702200@w201-16v-club.de
SUMMARY:Stammtisch West
DESCRIPTION:teilen teilen E-Mail 
URL:https://w201-16v-club.de/events/stammtisch-west-17
LOCATION:Restaurant Im Rittergut Birkhof\, Rittergut Birkhof 1\, Korschenbroich\, 41352
CATEGORIES:Stammtisch West
END:VEVENT
BEGIN:VEVENT
DTSTART;TZID=Europe/Berlin:20260619T180000
DTEND;TZID=Europe/Berlin:20260619T233000
DTSTAMP:20260421T125520
CREATED:20250106T222820Z
LAST-MODIFIED:20260121T182405Z
UID:1619-1781892000-1781911800@w201-16v-club.de
SUMMARY:Stammtisch Süd
DESCRIPTION:teilen teilen E-Mail 
URL:https://w201-16v-club.de/events/stammtisch-sued-18
LOCATION:Al Campo da Gio\, Am Kräherwald 190a\, Stuttgart\, BW\, 70193\, Deutschland
CATEGORIES:Stammtisch Süd
END:VEVENT
BEGIN:VEVENT
DTSTART;TZID=Europe/Berlin:20260626T190000
DTEND;TZID=Europe/Berlin:20260626T233000
DTSTAMP:20260421T125520
CREATED:20250106T222720Z
LAST-MODIFIED:20260121T182339Z
UID:1602-1782500400-1782516600@w201-16v-club.de
SUMMARY:Stammtisch Nord
DESCRIPTION:teilen teilen E-Mail 
URL:https://w201-16v-club.de/events/stammtisch-nord-18
LOCATION:Braaker Krug\, Am Spötzen 1\, Braak\, 22145
CATEGORIES:Stammtisch Nord
END:VEVENT
BEGIN:VEVENT
DTSTART;TZID=Europe/Berlin:20260703T193000
DTEND;TZID=Europe/Berlin:20260703T193000
DTSTAMP:20260421T125520
CREATED:20250106T222159Z
LAST-MODIFIED:20260121T182015Z
UID:1586-1783107000-1783107000@w201-16v-club.de
SUMMARY:Stammtisch West
DESCRIPTION:teilen teilen E-Mail 
URL:https://w201-16v-club.de/events/stammtisch-west-18
LOCATION:Restaurant Im Rittergut Birkhof\, Rittergut Birkhof 1\, Korschenbroich\, 41352
CATEGORIES:Stammtisch West
END:VEVENT
BEGIN:VEVENT
DTSTART;TZID=Europe/Berlin:20260717T180000
DTEND;TZID=Europe/Berlin:20260717T233000
DTSTAMP:20260421T125520
CREATED:20250106T222820Z
LAST-MODIFIED:20260121T181934Z
UID:1620-1784311200-1784331000@w201-16v-club.de
SUMMARY:Stammtisch Süd
DESCRIPTION:teilen teilen E-Mail 
URL:https://w201-16v-club.de/events/stammtisch-sued-19
LOCATION:Al Campo da Gio\, Am Kräherwald 190a\, Stuttgart\, BW\, 70193\, Deutschland
CATEGORIES:Stammtisch Süd
END:VEVENT
BEGIN:VEVENT
DTSTART;VALUE=DATE:20260731
DTEND;VALUE=DATE:20260803
DTSTAMP:20260421T125520
CREATED:20250106T233021Z
LAST-MODIFIED:20260121T181755Z
UID:1641-1785456000-1785715199@w201-16v-club.de
SUMMARY:Classic Days (Heimspiel des Stammtisch West)
DESCRIPTION:teilen teilen E-Mail 
URL:https://w201-16v-club.de/events/classic-days-2025-heimspiel-des-stammtisch-west
LOCATION:Rittergut Birkhof\, Rittergut Birkhof\, Korschenbroich\, 41352\, Germany
CATEGORIES:Classic Days,Stammtisch West
ORGANIZER;CN="Classic Days Oldtimer- und Motorsport GmbH":MAILTO:office@classic-days.de
END:VEVENT
BEGIN:VEVENT
DTSTART;TZID=Europe/Berlin:20260731T190000
DTEND;TZID=Europe/Berlin:20260731T233000
DTSTAMP:20260421T125520
CREATED:20250106T222720Z
LAST-MODIFIED:20260121T181910Z
UID:1603-1785524400-1785540600@w201-16v-club.de
SUMMARY:Stammtisch Nord
DESCRIPTION:teilen teilen E-Mail 
URL:https://w201-16v-club.de/events/stammtisch-nord-19
LOCATION:Braaker Krug\, Am Spötzen 1\, Braak\, 22145
CATEGORIES:Stammtisch Nord
END:VEVENT
BEGIN:VEVENT
DTSTART;TZID=Europe/Berlin:20260807T193000
DTEND;TZID=Europe/Berlin:20260807T233000
DTSTAMP:20260421T125520
CREATED:20250106T222159Z
LAST-MODIFIED:20260121T181535Z
UID:1587-1786131000-1786145400@w201-16v-club.de
SUMMARY:Stammtisch West
DESCRIPTION:teilen teilen E-Mail 
URL:https://w201-16v-club.de/events/stammtisch-west-19
LOCATION:Restaurant Im Rittergut Birkhof\, Rittergut Birkhof 1\, Korschenbroich\, 41352
CATEGORIES:Stammtisch West
END:VEVENT
BEGIN:VEVENT
DTSTART;VALUE=DATE:20260821
DTEND;VALUE=DATE:20260824
DTSTAMP:20260421T125520
CREATED:20250106T233753Z
LAST-MODIFIED:20260121T181500Z
UID:1645-1787270400-1787529599@w201-16v-club.de
SUMMARY:Jahrestreffen
DESCRIPTION:  \nteilen teilen E-Mail 
URL:https://w201-16v-club.de/events/jahrestreffen-2025
CATEGORIES:Jahrestreffen
END:VEVENT
BEGIN:VEVENT
DTSTART;TZID=Europe/Berlin:20260821T180000
DTEND;TZID=Europe/Berlin:20260821T233000
DTSTAMP:20260421T125520
CREATED:20250106T222821Z
LAST-MODIFIED:20260121T181410Z
UID:1621-1787335200-1787355000@w201-16v-club.de
SUMMARY:Stammtisch Süd
DESCRIPTION:teilen teilen E-Mail 
URL:https://w201-16v-club.de/events/stammtisch-sued-20
LOCATION:Al Campo da Gio\, Am Kräherwald 190a\, Stuttgart\, BW\, 70193\, Deutschland
CATEGORIES:Stammtisch Süd
END:VEVENT
BEGIN:VEVENT
DTSTART;TZID=Europe/Berlin:20260821T190000
DTEND;TZID=Europe/Berlin:20260821T233000
DTSTAMP:20260421T125520
CREATED:20250106T222720Z
LAST-MODIFIED:20260121T181222Z
UID:1604-1787338800-1787355000@w201-16v-club.de
SUMMARY:Stammtisch Nord
DESCRIPTION:teilen teilen E-Mail 
URL:https://w201-16v-club.de/events/stammtisch-nord-20
LOCATION:Braaker Krug\, Am Spötzen 1\, Braak\, 22145
CATEGORIES:Stammtisch Nord
END:VEVENT
BEGIN:VEVENT
DTSTART;TZID=Europe/Berlin:20260904T193000
DTEND;TZID=Europe/Berlin:20260904T233000
DTSTAMP:20260421T125520
CREATED:20250106T222200Z
LAST-MODIFIED:20260121T181129Z
UID:1588-1788550200-1788564600@w201-16v-club.de
SUMMARY:Stammtisch West
DESCRIPTION:teilen teilen E-Mail 
URL:https://w201-16v-club.de/events/stammtisch-west-20
LOCATION:Restaurant Im Rittergut Birkhof\, Rittergut Birkhof 1\, Korschenbroich\, 41352
CATEGORIES:Stammtisch West
END:VEVENT
BEGIN:VEVENT
DTSTART;TZID=Europe/Berlin:20260918T180000
DTEND;TZID=Europe/Berlin:20260918T233000
DTSTAMP:20260421T125520
CREATED:20250106T222821Z
LAST-MODIFIED:20260121T181051Z
UID:1622-1789754400-1789774200@w201-16v-club.de
SUMMARY:Stammtisch Süd
DESCRIPTION:teilen teilen E-Mail 
URL:https://w201-16v-club.de/events/stammtisch-sued-21
LOCATION:Al Campo da Gio\, Am Kräherwald 190a\, Stuttgart\, BW\, 70193\, Deutschland
CATEGORIES:Stammtisch Süd
END:VEVENT
BEGIN:VEVENT
DTSTART;TZID=Europe/Berlin:20260925T190000
DTEND;TZID=Europe/Berlin:20260925T233000
DTSTAMP:20260421T125520
CREATED:20250106T222721Z
LAST-MODIFIED:20260121T181012Z
UID:1605-1790362800-1790379000@w201-16v-club.de
SUMMARY:Stammtisch Nord
DESCRIPTION:teilen teilen E-Mail 
URL:https://w201-16v-club.de/events/stammtisch-nord-21
LOCATION:Braaker Krug\, Am Spötzen 1\, Braak\, 22145
CATEGORIES:Stammtisch Nord
END:VEVENT
BEGIN:VEVENT
DTSTART;TZID=Europe/Berlin:20261009T193000
DTEND;TZID=Europe/Berlin:20261009T193000
DTSTAMP:20260421T125520
CREATED:20250106T222200Z
LAST-MODIFIED:20260121T174833Z
UID:1589-1791574200-1791574200@w201-16v-club.de
SUMMARY:Stammtisch West
DESCRIPTION:teilen teilen E-Mail 
URL:https://w201-16v-club.de/events/stammtisch-west-21
LOCATION:Restaurant Im Rittergut Birkhof\, Rittergut Birkhof 1\, Korschenbroich\, 41352
CATEGORIES:Stammtisch West
END:VEVENT
BEGIN:VEVENT
DTSTART;TZID=Europe/Berlin:20261016T180000
DTEND;TZID=Europe/Berlin:20261016T233000
DTSTAMP:20260421T125520
CREATED:20250106T222821Z
LAST-MODIFIED:20260121T174808Z
UID:1623-1792173600-1792193400@w201-16v-club.de
SUMMARY:Stammtisch Süd
DESCRIPTION:teilen teilen E-Mail 
URL:https://w201-16v-club.de/events/stammtisch-sued-22
LOCATION:Al Campo da Gio\, Am Kräherwald 190a\, Stuttgart\, BW\, 70193\, Deutschland
CATEGORIES:Stammtisch Süd
END:VEVENT
BEGIN:VEVENT
DTSTART;TZID=Europe/Berlin:20261023T190000
DTEND;TZID=Europe/Berlin:20261023T233000
DTSTAMP:20260421T125520
CREATED:20250106T222721Z
LAST-MODIFIED:20260121T174745Z
UID:1606-1792782000-1792798200@w201-16v-club.de
SUMMARY:Stammtisch Nord
DESCRIPTION:teilen teilen E-Mail 
URL:https://w201-16v-club.de/events/stammtisch-nord-22
LOCATION:Braaker Krug\, Am Spötzen 1\, Braak\, 22145
CATEGORIES:Stammtisch Nord
END:VEVENT
BEGIN:VEVENT
DTSTART;TZID=Europe/Berlin:20261106T193000
DTEND;TZID=Europe/Berlin:20261106T233000
DTSTAMP:20260421T125520
CREATED:20250106T231257Z
LAST-MODIFIED:20260121T174654Z
UID:1634-1793993400-1794007800@w201-16v-club.de
SUMMARY:Stammtisch West
DESCRIPTION:teilen teilen E-Mail 
URL:https://w201-16v-club.de/events/stammtisch-west-22
LOCATION:Restaurant Im Rittergut Birkhof\, Rittergut Birkhof 1\, Korschenbroich\, 41352
CATEGORIES:Stammtisch West
END:VEVENT
BEGIN:VEVENT
DTSTART;TZID=Europe/Berlin:20261120T180000
DTEND;TZID=Europe/Berlin:20261120T233000
DTSTAMP:20260421T125520
CREATED:20250106T231258Z
LAST-MODIFIED:20260121T174628Z
UID:1638-1795197600-1795217400@w201-16v-club.de
SUMMARY:Stammtisch Süd
DESCRIPTION:teilen teilen E-Mail 
URL:https://w201-16v-club.de/events/stammtisch-sued-23
LOCATION:Al Campo da Gio\, Am Kräherwald 190a\, Stuttgart\, BW\, 70193\, Deutschland
CATEGORIES:Stammtisch Süd
END:VEVENT
BEGIN:VEVENT
DTSTART;TZID=Europe/Berlin:20261127T190000
DTEND;TZID=Europe/Berlin:20261127T233000
DTSTAMP:20260421T125520
CREATED:20250106T231257Z
LAST-MODIFIED:20260121T174438Z
UID:1636-1795806000-1795822200@w201-16v-club.de
SUMMARY:Stammtisch Nord
DESCRIPTION:teilen teilen E-Mail 
URL:https://w201-16v-club.de/events/stammtisch-nord-23
LOCATION:Braaker Krug\, Am Spötzen 1\, Braak\, 22145
CATEGORIES:Stammtisch Nord
END:VEVENT
BEGIN:VEVENT
DTSTART;TZID=Europe/Berlin:20261128T183000
DTEND;TZID=Europe/Berlin:20261128T233000
DTSTAMP:20260421T125520
CREATED:20250106T234505Z
LAST-MODIFIED:20260121T174404Z
UID:1650-1795890600-1795908600@w201-16v-club.de
SUMMARY:traditionelles Gänseessen (beim Stammtisch Nord)
DESCRIPTION:teilen teilen E-Mail 
URL:https://w201-16v-club.de/events/traditionelles-gaenseessen-beim-stammtisch-nord
LOCATION:Braaker Krug\, Am Spötzen 1\, Braak\, 22145
CATEGORIES:Stammtisch Nord
END:VEVENT
BEGIN:VEVENT
DTSTART;TZID=Europe/Berlin:20261204T193000
DTEND;TZID=Europe/Berlin:20261204T233000
DTSTAMP:20260421T125520
CREATED:20250106T231257Z
LAST-MODIFIED:20260121T174129Z
UID:1635-1796412600-1796427000@w201-16v-club.de
SUMMARY:Stammtisch West
DESCRIPTION:teilen teilen E-Mail 
URL:https://w201-16v-club.de/events/stammtisch-west-23
LOCATION:Restaurant Im Rittergut Birkhof\, Rittergut Birkhof 1\, Korschenbroich\, 41352
CATEGORIES:Stammtisch West
END:VEVENT
BEGIN:VEVENT
DTSTART;TZID=Europe/Berlin:20261218T180000
DTEND;TZID=Europe/Berlin:20261218T233000
DTSTAMP:20260421T125520
CREATED:20250106T231259Z
LAST-MODIFIED:20260121T173946Z
UID:1639-1797616800-1797636600@w201-16v-club.de
SUMMARY:Stammtisch Süd
DESCRIPTION:teilen teilen E-Mail 
URL:https://w201-16v-club.de/events/stammtisch-sued-24
LOCATION:Al Campo da Gio\, Am Kräherwald 190a\, Stuttgart\, BW\, 70193\, Deutschland
CATEGORIES:Stammtisch Süd
END:VEVENT
END:VCALENDAR