BEGIN:VCALENDAR
VERSION:2.0
PRODID:-//Mercedes-Benz W201 16V Club e.V. | Offizieller Classics Club - ECPv6.15.20//NONSGML v1.0//EN
CALSCALE:GREGORIAN
METHOD:PUBLISH
X-WR-CALNAME:Mercedes-Benz W201 16V Club e.V. | Offizieller Classics Club
X-ORIGINAL-URL:https://w201-16v-club.de
X-WR-CALDESC:Veranstaltungen für Mercedes-Benz W201 16V Club e.V. | Offizieller Classics Club
REFRESH-INTERVAL;VALUE=DURATION:PT1H
X-Robots-Tag:noindex
X-PUBLISHED-TTL:PT1H
BEGIN:VTIMEZONE
TZID:Europe/Berlin
BEGIN:DAYLIGHT
TZOFFSETFROM:+0100
TZOFFSETTO:+0200
TZNAME:CEST
DTSTART:20250330T010000
END:DAYLIGHT
BEGIN:STANDARD
TZOFFSETFROM:+0200
TZOFFSETTO:+0100
TZNAME:CET
DTSTART:20251026T010000
END:STANDARD
BEGIN:DAYLIGHT
TZOFFSETFROM:+0100
TZOFFSETTO:+0200
TZNAME:CEST
DTSTART:20260329T010000
END:DAYLIGHT
BEGIN:STANDARD
TZOFFSETFROM:+0200
TZOFFSETTO:+0100
TZNAME:CET
DTSTART:20261025T010000
END:STANDARD
BEGIN:DAYLIGHT
TZOFFSETFROM:+0100
TZOFFSETTO:+0200
TZNAME:CEST
DTSTART:20270328T010000
END:DAYLIGHT
BEGIN:STANDARD
TZOFFSETFROM:+0200
TZOFFSETTO:+0100
TZNAME:CET
DTSTART:20271031T010000
END:STANDARD
END:VTIMEZONE
BEGIN:VEVENT
DTSTART;VALUE=DATE:20260408
DTEND;VALUE=DATE:20260413
DTSTAMP:20260421T172706
CREATED:20250106T233428Z
LAST-MODIFIED:20260121T182819Z
UID:1643-1775606400-1776038399@w201-16v-club.de
SUMMARY:Retro Classics Essen
DESCRIPTION:teilen teilen E-Mail 
URL:https://w201-16v-club.de/events/techno-classica-essen-2025
LOCATION:Messe Essen\, Messeplatz 1\, Essen\, 45131\, Deutschland
CATEGORIES:Techno Classica Essen
END:VEVENT
BEGIN:VEVENT
DTSTART;TZID=Europe/Berlin:20260410T193000
DTEND;TZID=Europe/Berlin:20260410T233000
DTSTAMP:20260421T172706
CREATED:20250106T222156Z
LAST-MODIFIED:20260211T065255Z
UID:1583-1775849400-1775863800@w201-16v-club.de
SUMMARY:Stammtisch West (zusammen mit der Retro Classics Essen)
DESCRIPTION:teilen teilen E-Mail 
URL:https://w201-16v-club.de/events/stammtisch-west-15
LOCATION:Restaurant Im Rittergut Birkhof\, Rittergut Birkhof 1\, Korschenbroich\, 41352
CATEGORIES:Stammtisch West
END:VEVENT
END:VCALENDAR