BEGIN:VCALENDAR
VERSION:2.0
PRODID:-//Mercedes-Benz W201 16V Club e.V. | Offizieller Classics Club - ECPv6.15.20//NONSGML v1.0//EN
CALSCALE:GREGORIAN
METHOD:PUBLISH
X-WR-CALNAME:Mercedes-Benz W201 16V Club e.V. | Offizieller Classics Club
X-ORIGINAL-URL:https://w201-16v-club.de
X-WR-CALDESC:Veranstaltungen für Mercedes-Benz W201 16V Club e.V. | Offizieller Classics Club
REFRESH-INTERVAL;VALUE=DURATION:PT1H
X-Robots-Tag:noindex
X-PUBLISHED-TTL:PT1H
BEGIN:VTIMEZONE
TZID:Europe/Berlin
BEGIN:DAYLIGHT
TZOFFSETFROM:+0100
TZOFFSETTO:+0200
TZNAME:CEST
DTSTART:20250330T010000
END:DAYLIGHT
BEGIN:STANDARD
TZOFFSETFROM:+0200
TZOFFSETTO:+0100
TZNAME:CET
DTSTART:20251026T010000
END:STANDARD
BEGIN:DAYLIGHT
TZOFFSETFROM:+0100
TZOFFSETTO:+0200
TZNAME:CEST
DTSTART:20260329T010000
END:DAYLIGHT
BEGIN:STANDARD
TZOFFSETFROM:+0200
TZOFFSETTO:+0100
TZNAME:CET
DTSTART:20261025T010000
END:STANDARD
BEGIN:DAYLIGHT
TZOFFSETFROM:+0100
TZOFFSETTO:+0200
TZNAME:CEST
DTSTART:20270328T010000
END:DAYLIGHT
BEGIN:STANDARD
TZOFFSETFROM:+0200
TZOFFSETTO:+0100
TZNAME:CET
DTSTART:20271031T010000
END:STANDARD
END:VTIMEZONE
BEGIN:VEVENT
DTSTART;VALUE=DATE:20260219
DTEND;VALUE=DATE:20260223
DTSTAMP:20260421T191952
CREATED:20250106T234017Z
LAST-MODIFIED:20260121T183113Z
UID:1647-1771459200-1771804799@w201-16v-club.de
SUMMARY:Retro Classics Stuttgart
DESCRIPTION:teilen teilen E-Mail 
URL:https://w201-16v-club.de/events/retro-classics-stuttgart-2025
LOCATION:Messe Stuttgart\, Messepiazza 1\, Stuttgart\, 70629
CATEGORIES:Retro Classics Stuttgart
ORGANIZER;CN="RETRO Messen GmbH":MAILTO:info@retro-messen.de
END:VEVENT
END:VCALENDAR